BEGIN:VCALENDAR
VERSION:2.0
PRODID:-//www.admidio.org//Admidio4.1.18//DE
CALSCALE:GREGORIAN
METHOD:PUBLISH
X-WR-TIMEZONE:Europe/Kiev
BEGIN:VTIMEZONE
TZID:Europe/Kiev
X-LIC-LOCATION:Europe/Kiev
BEGIN:STANDARD
DTSTART:19701025T030000
TZOFFSETFROM:+0200
TZOFFSETTO:+0100
TZNAME:CET
RRULE:FREQ=YEARLY;BYDAY=-1SU;BYMONTH=10
END:STANDARD
BEGIN:DAYLIGHT
DTSTART:19700329T020000
TZOFFSETFROM:+0100
TZOFFSETTO:+0200
TZNAME:CEST
RRULE:FREQ=YEARLY;BYDAY=-1SU;BYMONTH=3
END:DAYLIGHT
END:VTIMEZONE
BEGIN:VEVENT
CREATED:20260129T143804
UID:20260129T143804+3@www.tou.org.ua
SUMMARY:ESASO Webinar: Surgical Retina online course
DESCRIPTION:ESASO Webinar: Surgical Retina online course\n\nDate: MAY 19\n\nVenue: eLOS Platform\n\nLevel: Intermediate\n\nCourse Scientific coordinator: Mario Romano and Mariantonia Ferrara\n\nESASO Scientific Director: Mario Romano\n\nTuition fee: \n\nFull Ophthalmologist: Free \n\nResident: Free\n\nOptometrist\, Orthoptist\, Nurse: Free \n\nCorporate (Commercial representatives and corporate personnel of companies): Free\n\nProgramme and application: soon available \n
DTSTAMP:20260423T135901
LOCATION:eLOS Platform
DTSTART;TZID=Europe/Kiev:20260519T150000
DTEND;TZID=Europe/Kiev:20260519T170000
END:VEVENT
BEGIN:VEVENT
CREATED:20260129T144109
UID:20260129T144109+3@www.tou.org.ua
SUMMARY:ESASO: Cataract Surgery
DESCRIPTION:ESASO: Cataract Surgery \n\nDate: JUNE 8-9\n\nVenue: Lugano\, Switzerland\n\nLevel: Basic\n\nCourse Scientific coordinator: Josè Guell\, Mario Nubile\n\nESASO Scientific Director: Mario Romano\n\nTuition fee: \n\nFull Ophthalmologist: 1500 CHF\n\nResident: 1350 CHF \n\nOptometrist\, Orthoptist\, Nurse: 1350 CHF \n\nCorporate (Commercial representatives and corporate personnel of companies): 1850 CHF\n\nAccommodation not included\n\nProgramme and application: soon available \n
DTSTAMP:20260423T135901
LOCATION:Lugano
DTSTART;TZID=Europe/Kiev:20260608T150000
DTEND;TZID=Europe/Kiev:20260609T170000
END:VEVENT
BEGIN:VEVENT
CREATED:20260129T144001
UID:20260129T144001+3@www.tou.org.ua
SUMMARY:ESASO: Surgical Retina
DESCRIPTION:ESASO: Surgical Retina\n\nDate: JUNE 17-19\n\nVenue: Milano\n\nLevel: Intermediate\n\nCourse Scientific coordinator: Andrea Govetto\n\nESASO Scientific Director: Mario Romano\n\nTuition fee: \n\nFull Ophthalmologist: 1500 CHF \n\nResident: 1350 CHF\n\nOptometrist\, Orthoptist\, Nurse: 1350 CHF \n\nCorporate (Commercial representatives and corporate personnel of companies): 1850 CHF\n\nAccommodation not included\n\nProgramme and application: soon available \n\n \n
DTSTAMP:20260423T135901
LOCATION:Milano
DTSTART;TZID=Europe/Kiev:20260617T150000
DTEND;TZID=Europe/Kiev:20260619T170000
END:VEVENT
BEGIN:VEVENT
CREATED:20260129T144209
UID:20260129T144209+3@www.tou.org.ua
SUMMARY:ESASO: Medical Retina
DESCRIPTION:ESASO: Medical Retina \n\nDate: JULY 6-8\n\nVenue: Paris\n\nLevel: advanced\n\nCourse Scientific coordinators: Eric Souied\, Vittorio Capuano\n\nChairman: Eric Souied\n\nESASO Scientific Director: Mario Romano\n\nTuition fee: \n\nFull Ophthalmologist: 1500 CHF\n\nResident: 1350 CHF\n\nOptometrist\, Orthoptist\, Nurse: 1350 CHF\n\nCorporate (Commercial representatives and corporate personnel of companies): 1850 CHF\n\nAccommodation not included\n\nProgramme and application: soon available \n
DTSTAMP:20260423T135901
LOCATION:Париж
DTSTART;TZID=Europe/Kiev:20260706T150000
DTEND;TZID=Europe/Kiev:20260708T170000
END:VEVENT
BEGIN:VEVENT
CREATED:20260129T144303
UID:20260129T144303+3@www.tou.org.ua
SUMMARY:ESASO Webinar: Myopia Today: Understanding\, Managing\, and Looking Ahead
DESCRIPTION:ESASO Webinar: Myopia Today: Understanding\, Managing\, and Looking Ahead\n\nDate: JULY 14\n\nVenue: eLOS Platform\n\nLevel: Intermediate\n\nCourse Scientific coordinator: Mario Romano\n\nESASO Scientific Director: Mario Romano\n\nTuition fee: \n\nFull Ophthalmologist: Free \n\nResident: Free\n\nOptometrist\, Orthoptist\, Nurse: Free \n\nCorporate (Commercial representatives and corporate personnel of companies): Free\n\nProgramme and application: soon available \n
DTSTAMP:20260423T135901
LOCATION:eLOS Platform
DTSTART;TZID=Europe/Kiev:20260714T150000
DTEND;TZID=Europe/Kiev:20260714T170000
END:VEVENT
BEGIN:VEVENT
CREATED:20260129T144356
UID:20260129T144356+3@www.tou.org.ua
SUMMARY:ESASO Webinar: Tips and Tricks in the treatment of DME and RVO
DESCRIPTION:ESASO Webinar: Tips and Tricks in the treatment of DME and RVO\n\nDate: SEPTEMBER 23\n\nVenue: eLOS Platform\n\nLevel: Intermediate\n\nCourse Scientific coordinator: Giuseppe Querques and Riccardo Sacconi\n\nESASO Scientific Director: Mario Romano\n\nTuition fee: \n\nFull Ophthalmologist: Free \n\nResident: Free\n\nOptometrist\, Orthoptist\, Nurse: Free \n\nCorporate (Commercial representatives and corporate personnel of companies): Free\n\nProgramme and application: soon available \n\n \n\n \n
DTSTAMP:20260423T135901
LOCATION:eLOS Platform
DTSTART;TZID=Europe/Kiev:20260923T150000
DTEND;TZID=Europe/Kiev:20260923T170000
END:VEVENT
BEGIN:VEVENT
CREATED:20260129T144456
UID:20260129T144456+3@www.tou.org.ua
SUMMARY:ESASO Webinar: Rethinking Glaucoma: Innovation\, Neuroprotection &amp\; Personalized Care
DESCRIPTION:ESASO Webinar: Rethinking Glaucoma: Innovation\, Neuroprotection & Personalized Care\n\nDate: SEPTEMBER 30\n\nVenue: eLOS Platform\n\nLevel: Intermediate\n\nCourse Scientific coordinator: Giacinto Triolo\n\nESASO Scientific Director: Mario Romano\n\nTuition fee: \n\nFull Ophthalmologist: Free \n\nResident: Free\n\nOptometrist\, Orthoptist\, Nurse: Free \n\nCorporate (Commercial representatives and corporate personnel of companies): Free\n\nProgramme and application: soon available \n\n \n
DTSTAMP:20260423T135901
LOCATION:eLOS Platform
DTSTART;TZID=Europe/Kiev:20260930T150000
DTEND;TZID=Europe/Kiev:20260930T170000
END:VEVENT
BEGIN:VEVENT
CREATED:20260129T144553
UID:20260129T144553+3@www.tou.org.ua
SUMMARY:ESASO: Scleral Fixation and Emergency retinal surgery &amp\; IOL alternatives
DESCRIPTION:ESASO: Scleral Fixation and Emergency retinal surgery & IOL alternatives\n\nDate: OCTOBER 19-21\n\nVenue: Lugano\, Switzerland\n\nLevel: advanced\n\nCourse Scientific coordinator: Vito Romano\n\nESASO Scientific Director: Mario Romano\n\nTuition fee: \n\nFull Ophthalmologist: 1500 CHF\n\nResident: 1350 CHF\n\nOptometrist\, Orthoptist\, Nurse: 1350 CHF\n\nCorporate (Commercial representatives and corporate personnel of companies): 1850 CHF\n\nAccommodation not included\n\nProgramme and application: soon available \n\n \n
DTSTAMP:20260423T135901
LOCATION:Lugano
DTSTART;TZID=Europe/Kiev:20261019T150000
DTEND;TZID=Europe/Kiev:20261021T170000
END:VEVENT
BEGIN:VEVENT
CREATED:20260225T150955
UID:20260225T150955+3@www.tou.org.ua
SUMMARY:EVRS Meeting
DESCRIPTION:Abstract submission\n\nEVRS Meeting is dedicated to presenting innovative and relevant work in vitreoretina. \n\nWe warmly invite you to take part in by submitting your abstract until 31 May 2026.\n\nhttps://www.evrsmeeting.com/abstract/ \n\n \n\nTopics\n\n\n	COMBINED RETINA SURGERY + CATARACT\n	COMBINED RETINA SURGERY + CORNEA\n	COMBINED RETINA SURGERY + GLAUCOMA\n	DIABETIC RETINOPATHY & MACULAR EDEMA\n	EPIRETINAL MEMBRANE\n	FULL THICKNESS MACULAR HOLE\n	INHERITED RETINAL DISEASE\n	INNOVATIONS & LATE BREAKING DEVELOPMENTS\n	IOL SUBLUXATIONS/SECONDARY IOL IMPLANTATION\n	LAMELLAR MACULAR HOLE\n	MEDICAL RETINA (AMD\, MACULAR EDEMA\, CSCR\, OTHERS)\n	NEWS FROM THE IMAGING WORLD\n	OCULAR ONCOLOGY\n	OCULAR TRAUMA\n	PATHOLOGIC MYOPIA\n	PEDIATRIC RETINA & ROP\n	PVR\n	RETINAL DETACHMENT\n	SURGICAL TIPS & TRICKS (MY WAY) & COMPLICATIONS\n	UPDATE ON RETINAL LASERS\n	UPDATES ON CLINICAL TRIALS\n	UVEITIS / ENDOPHTHALMITIS\n\n
DTSTAMP:20260423T135901
LOCATION:Афіни
DTSTART;TZID=Europe/Kiev:20261106T080000
DTEND;TZID=Europe/Kiev:20261108T180000
END:VEVENT
BEGIN:VEVENT
CREATED:20260129T144647
UID:20260129T144647+3@www.tou.org.ua
SUMMARY:ESASO Webinar: Gene Therapy in DR and neovascular AMD: past\, present\, and future
DESCRIPTION:ESASO Webinar: Gene Therapy in DR and neovascular AMD: past\, present\, and future\n\nDate: NOVEMBER 18\n\nVenue: eLOS Platform\n\nLevel: Intermediate\n\nCourse Scientific coordinator: Giuseppe Querques and Riccardo Sacconi\n\nESASO Scientific Director: Mario Romano\n\nTuition fee: \n\nFull Ophthalmologist: Free \n\nResident: Free\n\nOptometrist\, Orthoptist\, Nurse: Free \n\nCorporate (Commercial representatives and corporate personnel of companies): Free\n\nProgramme and application: soon available \n
DTSTAMP:20260423T135901
LOCATION:eLOS Platform
DTSTART;TZID=Europe/Kiev:20261118T150000
DTEND;TZID=Europe/Kiev:20261118T170000
END:VEVENT
BEGIN:VEVENT
CREATED:20260129T144829
UID:20260129T144829+3@www.tou.org.ua
SUMMARY:ESASO: Myopia 360°
DESCRIPTION:ESASO: Myopia 360°\n\nDate: NOVEMBER 19-21\n\nVenue: Lugano\, Switzerland\n\nLevel: intermediate\n\nCourse Scientific coordinator: Giacomo Panozzo\n\nESASO Scientific Director: Mario Romano\n\nTuition fee: \n\nFull Ophthalmologist: 1500 CHF\n\nResident: 1350 CHF \n\nOptometrist\, Orthoptist\, Nurse: 1350 CHF\n\nCorporate (Commercial representatives and corporate personnel of companies): 1850 CHF\n\nAccommodation not included\n\nProgramme and application: soon available\n
DTSTAMP:20260423T135901
LOCATION:Lugano
DTSTART;TZID=Europe/Kiev:20261119T150000
DTEND;TZID=Europe/Kiev:20261121T170000
END:VEVENT
BEGIN:VEVENT
CREATED:20260129T144737
UID:20260129T144737+3@www.tou.org.ua
SUMMARY:ESASO Webinar: Cataract online course
DESCRIPTION:ESASO Webinar: Cataract online course\n\nDate: DECEMBER 1\n\nVenue: eLOS Platform\n\nLevel: Intermediate\n\nCourse Scientific coordinator: Carlos Rocha de Lossada\, Vito Romano\n\nESASO Scientific Director: Mario Romano\n\nTuition fee: \n\nFull Ophthalmologist: Free \n\nResident: Free\n\nOptometrist\, Orthoptist\, Nurse: Free \n\nCorporate (Commercial representatives and corporate personnel of companies): Free\n\nProgramme and application: soon available \n\n \n
DTSTAMP:20260423T135901
LOCATION:eLOS Platform
DTSTART;TZID=Europe/Kiev:20261201T150000
DTEND;TZID=Europe/Kiev:20261201T170000
END:VEVENT
END:VCALENDAR