BEGIN:VCALENDAR
VERSION:2.0
PRODID:-//www.admidio.org//Admidio4.1.18//DE
CALSCALE:GREGORIAN
METHOD:PUBLISH
X-WR-TIMEZONE:Europe/Kiev
BEGIN:VTIMEZONE
TZID:Europe/Kiev
X-LIC-LOCATION:Europe/Kiev
BEGIN:STANDARD
DTSTART:19701025T030000
TZOFFSETFROM:+0200
TZOFFSETTO:+0100
TZNAME:CET
RRULE:FREQ=YEARLY;BYDAY=-1SU;BYMONTH=10
END:STANDARD
BEGIN:DAYLIGHT
DTSTART:19700329T020000
TZOFFSETFROM:+0100
TZOFFSETTO:+0200
TZNAME:CEST
RRULE:FREQ=YEARLY;BYDAY=-1SU;BYMONTH=3
END:DAYLIGHT
END:VTIMEZONE
BEGIN:VEVENT
CREATED:20260129T144109
UID:20260129T144109+3@www.tou.org.ua
SUMMARY:ESASO: Cataract Surgery
DESCRIPTION:ESASO: Cataract Surgery \n\nDate: JUNE 8-9\n\nVenue: Lugano\, Switzerland\n\nLevel: Basic\n\nCourse Scientific coordinator: Josè Guell\, Mario Nubile\n\nESASO Scientific Director: Mario Romano\n\nTuition fee: \n\nFull Ophthalmologist: 1500 CHF\n\nResident: 1350 CHF \n\nOptometrist\, Orthoptist\, Nurse: 1350 CHF \n\nCorporate (Commercial representatives and corporate personnel of companies): 1850 CHF\n\nAccommodation not included\n\nProgramme and application: soon available \n
DTSTAMP:20260423T135328
LOCATION:Lugano
DTSTART;TZID=Europe/Kiev:20260608T150000
DTEND;TZID=Europe/Kiev:20260609T170000
END:VEVENT
END:VCALENDAR