BEGIN:VCALENDAR
VERSION:2.0
PRODID:-//www.admidio.org//Admidio4.1.18//DE
CALSCALE:GREGORIAN
METHOD:PUBLISH
X-WR-TIMEZONE:Europe/Kiev
BEGIN:VTIMEZONE
TZID:Europe/Kiev
X-LIC-LOCATION:Europe/Kiev
BEGIN:STANDARD
DTSTART:19701025T030000
TZOFFSETFROM:+0200
TZOFFSETTO:+0100
TZNAME:CET
RRULE:FREQ=YEARLY;BYDAY=-1SU;BYMONTH=10
END:STANDARD
BEGIN:DAYLIGHT
DTSTART:19700329T020000
TZOFFSETFROM:+0100
TZOFFSETTO:+0200
TZNAME:CEST
RRULE:FREQ=YEARLY;BYDAY=-1SU;BYMONTH=3
END:DAYLIGHT
END:VTIMEZONE
BEGIN:VEVENT
CREATED:20260129T144647
UID:20260129T144647+3@www.tou.org.ua
SUMMARY:ESASO Webinar: Gene Therapy in DR and neovascular AMD: past\, present\, and future
DESCRIPTION:ESASO Webinar: Gene Therapy in DR and neovascular AMD: past\, present\, and future\n\nDate: NOVEMBER 18\n\nVenue: eLOS Platform\n\nLevel: Intermediate\n\nCourse Scientific coordinator: Giuseppe Querques and Riccardo Sacconi\n\nESASO Scientific Director: Mario Romano\n\nTuition fee: \n\nFull Ophthalmologist: Free \n\nResident: Free\n\nOptometrist\, Orthoptist\, Nurse: Free \n\nCorporate (Commercial representatives and corporate personnel of companies): Free\n\nProgramme and application: soon available \n
DTSTAMP:20260423T135336
LOCATION:eLOS Platform
DTSTART;TZID=Europe/Kiev:20261118T150000
DTEND;TZID=Europe/Kiev:20261118T170000
END:VEVENT
END:VCALENDAR