BEGIN:VCALENDAR
VERSION:2.0
PRODID:-//www.admidio.org//Admidio4.1.18//DE
CALSCALE:GREGORIAN
METHOD:PUBLISH
X-WR-TIMEZONE:Europe/Kiev
BEGIN:VTIMEZONE
TZID:Europe/Kiev
X-LIC-LOCATION:Europe/Kiev
BEGIN:STANDARD
DTSTART:19701025T030000
TZOFFSETFROM:+0200
TZOFFSETTO:+0100
TZNAME:CET
RRULE:FREQ=YEARLY;BYDAY=-1SU;BYMONTH=10
END:STANDARD
BEGIN:DAYLIGHT
DTSTART:19700329T020000
TZOFFSETFROM:+0100
TZOFFSETTO:+0200
TZNAME:CEST
RRULE:FREQ=YEARLY;BYDAY=-1SU;BYMONTH=3
END:DAYLIGHT
END:VTIMEZONE
BEGIN:VEVENT
CREATED:20260225T150955
UID:20260225T150955+3@www.tou.org.ua
SUMMARY:EVRS Meeting
DESCRIPTION:Abstract submission\n\nEVRS Meeting is dedicated to presenting innovative and relevant work in vitreoretina. \n\nWe warmly invite you to take part in by submitting your abstract until 31 May 2026.\n\nhttps://www.evrsmeeting.com/abstract/ \n\n \n\nTopics\n\n\n	COMBINED RETINA SURGERY + CATARACT\n	COMBINED RETINA SURGERY + CORNEA\n	COMBINED RETINA SURGERY + GLAUCOMA\n	DIABETIC RETINOPATHY & MACULAR EDEMA\n	EPIRETINAL MEMBRANE\n	FULL THICKNESS MACULAR HOLE\n	INHERITED RETINAL DISEASE\n	INNOVATIONS & LATE BREAKING DEVELOPMENTS\n	IOL SUBLUXATIONS/SECONDARY IOL IMPLANTATION\n	LAMELLAR MACULAR HOLE\n	MEDICAL RETINA (AMD\, MACULAR EDEMA\, CSCR\, OTHERS)\n	NEWS FROM THE IMAGING WORLD\n	OCULAR ONCOLOGY\n	OCULAR TRAUMA\n	PATHOLOGIC MYOPIA\n	PEDIATRIC RETINA & ROP\n	PVR\n	RETINAL DETACHMENT\n	SURGICAL TIPS & TRICKS (MY WAY) & COMPLICATIONS\n	UPDATE ON RETINAL LASERS\n	UPDATES ON CLINICAL TRIALS\n	UVEITIS / ENDOPHTHALMITIS\n\n
DTSTAMP:20260423T135224
LOCATION:Афіни
DTSTART;TZID=Europe/Kiev:20261106T080000
DTEND;TZID=Europe/Kiev:20261108T180000
END:VEVENT
END:VCALENDAR